BEGIN:VCALENDAR
VERSION:2.0
PRODID:-//Tukios.com/
BEGIN:VEVENT
UID:58e48376-f945-4967-b2c0-5efee82f0cd6@www.vaughanguynnandmcgrady.com
DTSTAMP:20260424T191334Z
DTSTART:20260427T150000Z
DTEND:20260427T160000Z
SUMMARY:Funeral Service
DESCRIPTION:
URL:https://www.vaughanguynnandmcgrady.com/obituaries/ronnie-goad
LOCATION:Vaughan-Guynn-McGrady Chapel 1035 N Main St PO Box 145 
	Hillsville VA 24343
GEO:36.7693364;-80.7383293
END:VEVENT
END:VCALENDAR