BEGIN:VCALENDAR
VERSION:2.0
PRODID:-//Tukios.com/
BEGIN:VEVENT
UID:637f7ec6-fc86-4519-970c-ca9bcc81ffad@www.vaughanguynnandmcgrady.com
DTSTAMP:20260424T191830Z
DTSTART:20260427T140000Z
DTEND:20260427T150000Z
SUMMARY:Visitation
DESCRIPTION:
URL:https://www.vaughanguynnandmcgrady.com/obituaries/ronnie-goad
LOCATION:Vaughan-Guynn-McGrady Chapel 1035 N Main St PO Box 145 
	Hillsville VA 24343
GEO:36.7693364;-80.7383293
END:VEVENT
END:VCALENDAR