BEGIN:VCALENDAR
VERSION:2.0
PRODID:-//Tukios.com/
BEGIN:VEVENT
UID:b6537fe5-1c01-49d8-bd2b-c59d5206455d@www.vaughanguynnandmcgrady.com
DTSTAMP:20260420T215253Z
DTSTART:20260425T180000Z
DTEND:20260425T190000Z
SUMMARY:Celebration of Life
DESCRIPTION:
URL:https://www.vaughanguynnandmcgrady.com/obituaries/douglas-horton
LOCATION:Windsor Place 6252 Coulson Church Road  Austinville VA 24312
GEO:36.7944783;-80.8207118
END:VEVENT
END:VCALENDAR